BEGIN:VCALENDAR
PRODID:-//eluceo/ical//2.0/EN
VERSION:2.0
CALSCALE:GREGORIAN
BEGIN:VEVENT
UID:65139a1f407996703f0f10eddf737618
DTSTAMP:20260420T053302Z
SUMMARY:What Is Chanukah All About?
DESCRIPTION:Jewish Federation of Ottawa\nCommunity Calendar\nhttps://jewish
 ottawa.com/community-calendar/what-is-chanukah-all-about-1764345138\n\nWha
 t Is Chanukah All About? - Community Event\nStep into a warm and festive C
 hanukah evening filled with glowing menorah lights\, the sweet aroma of fr
 esh donuts\, and the joyful spin of colorful dreidels!\n\nJoin us on Decem
 ber 10th for two inspiring mini-sessions:\n🕎 Miracle on Temple Street w
 ith Rabbi Zischa Shaps\n🕎 How Do We Keep Chanukah Today? with Rabbi Mic
 hael Altonaga\n\nExpect friendly discussions\, delicious sufganiyot dusted
  with powdered sugar\, vibrant dreidels scattered like...
DTSTART;TZID=America/Toronto:20251210T190000
DTEND;TZID=America/Toronto:20251210T203000
END:VEVENT
END:VCALENDAR
