BEGIN:VCALENDAR
PRODID:-//eluceo/ical//2.0/EN
VERSION:2.0
CALSCALE:GREGORIAN
BEGIN:VEVENT
UID:09a2053a77638185bd4059ee300fb06e
DTSTAMP:20260424T172222Z
SUMMARY:Volunteers Needed for Purim
DESCRIPTION:Jewish Federation of Ottawa\nCommunity Calendar\nhttps://jewish
 ottawa.com/community-calendar/volunteers-needed-for-purim-1769096665\n\nVo
 lunteers Needed for Purim - Be Part of Something Meaningful!\n\nEvery year
 \, our Mishloach Manot program touches hundreds of people across Ottawa. F
 or some\, it’s a reminder that someone is thinking of them. For others\,
  it may be their only connection to the Jewish community - and it truly ma
 kes their Purim brighter.\n\nWe are looking for volunteers to help make th
 is mitzvah happen again this year!\n\nPacking Day: Sunday\, March 1\nDeliv
 ery Day: Tuesday\, March 3\n\nThis is a wonderful opport...
DTSTART;TZID=America/Toronto:20260303T070000
DTEND;TZID=America/Toronto:20260303T200000
END:VEVENT
END:VCALENDAR
