BEGIN:VCALENDAR
PRODID:-//eluceo/ical//2.0/EN
VERSION:2.0
CALSCALE:GREGORIAN
BEGIN:VEVENT
UID:1156740ebee91d3ca144008b58e33c7c
DTSTAMP:20260424T172205Z
SUMMARY:Volunteers Needed for Purim
DESCRIPTION:Jewish Federation of Ottawa\nCommunity Calendar\nhttps://jewish
 ottawa.com/community-calendar/volunteers-needed-for-purim-1769096537\n\nVo
 lunteers Needed for Purim - Be Part of Something Meaningful!Every year\, o
 ur Mishloach Manot program touches hundreds of people across Ottawa. For s
 ome\, it’s a reminder that someone is thinking of them. For others\, it 
 may be their only connection to the Jewish community - and it truly makes 
 their Purim brighter.We are looking for volunteers to help make this mitzv
 ah happen again this year!Packing Day: Sunday\, March 1 Delivery Day: Tues
 day\, March 3This is a wonderful opportunity for: -High ...
DTSTART;TZID=America/Toronto:20260301T100000
DTEND;TZID=America/Toronto:20260301T150000
END:VEVENT
END:VCALENDAR
