BEGIN:VCALENDAR
PRODID:-//eluceo/ical//2.0/EN
VERSION:2.0
CALSCALE:GREGORIAN
BEGIN:VEVENT
UID:0f2dc6ba3bea3b2ed86051a01e97971e
DTSTAMP:20260422T230340Z
SUMMARY:Toke 'n Torah
DESCRIPTION:Jewish Federation of Ottawa\nCommunity Calendar\nhttps://jewish
 ottawa.com/community-calendar/toke-n-torah-1776873136\n\nBack by popular d
 emond! Join Rabbi Zuker in an exploration of Torah through a different len
 s.\nFor thousands of years\, mystics and spiritualists of all kinds have u
 sed mind-enhancing substances to elevate their spiritual experiences\, fro
 m wine to plants and psychedelics. In honour of Shavuot\, we will gather t
 o consume cannabis and study Torah together in search of insight and inspi
 ration.\n\nB.Y.O.C.\nSnacks encouraged\nMust be 19 years or older to atten
 d
DTSTART;TZID=America/Toronto:20260521T210000
DTEND;TZID=America/Toronto:20260521T230000
END:VEVENT
END:VCALENDAR
