BEGIN:VCALENDAR
PRODID:-//eluceo/ical//2.0/EN
VERSION:2.0
CALSCALE:GREGORIAN
BEGIN:VEVENT
UID:c8e6c834ca966e13e49857c0d92ac9e7
DTSTAMP:20260420T014129Z
SUMMARY:The International Holocaust Remembrance Day
DESCRIPTION:Jewish Federation of Ottawa\nCommunity Calendar\nhttps://jewish
 ottawa.com/community-calendar/the-international-holocaust-remembrance-day-
 1735830922\n\nThe National Holocaust Monument Committee and partners welco
 me you to attend the International Holocaust Remembrance Day Ceremony at T
 he National Holocaust Monument. This year marks an important commemoration
  date\, the 80th anniversary of the liberation of Auschwitz Birkenau\, in 
 which we remember those who came before us and who gave so much. A special
  video address\, will be presented directly from Auschwitz Birkenau. Speci
 al dignitaries will be participating.
DTSTART;TZID=America/Toronto:20250127T110000
DTEND;TZID=America/Toronto:20250127T130000
END:VEVENT
END:VCALENDAR
