BEGIN:VCALENDAR
PRODID:-//eluceo/ical//2.0/EN
VERSION:2.0
CALSCALE:GREGORIAN
BEGIN:VEVENT
UID:4d4a271e42685d75a0bfc24ec5dfbd2e
DTSTAMP:20260419T124429Z
SUMMARY:Teddy Bear Shabbat
DESCRIPTION:Jewish Federation of Ottawa\nCommunity Calendar\nhttps://jewish
 ottawa.com/community-calendar/teddy-bear-shabbat-1758731251\n\nWelcome Sha
 bbat with Rabbi Zuker in this family-friendly event. Sing Shabbat songs an
 d enjoy snacks and cupcakes This is a program geared at families with youn
 g kids. All ages are welcome. All exceptionalities are welcome. All stuffi
 es welcome 🐻
DTSTART;TZID=America/Toronto:20251010T173000
DTEND;TZID=America/Toronto:20251010T183000
END:VEVENT
END:VCALENDAR
