BEGIN:VCALENDAR
PRODID:-//eluceo/ical//2.0/EN
VERSION:2.0
CALSCALE:GREGORIAN
BEGIN:VEVENT
UID:b0c88fa8e95ef03cf6111379475d0a2b
DTSTAMP:20260422T230327Z
SUMMARY:S'more and Stories for Lag B'Omer
DESCRIPTION:Jewish Federation of Ottawa\nCommunity Calendar\nhttps://jewish
 ottawa.com/community-calendar/smore-and-stories-for-lag-bomer-1776871088\n
 \nJoin us for one of our more mystical and mysterious holidays. By the lig
 ht of the bonfire\, Rabbi Liz & Morah Jenny will tell Ghost Stories found 
 in Jewish lore.Bring your camping chairs\, marshmallows and bug spray!
DTSTART;TZID=America/Toronto:20260503T160000
DTEND;TZID=America/Toronto:20260503T180000
END:VEVENT
END:VCALENDAR
