BEGIN:VCALENDAR
PRODID:-//eluceo/ical//2.0/EN
VERSION:2.0
CALSCALE:GREGORIAN
BEGIN:VEVENT
UID:d0b8bb21937e5486ff14c9b9b5b4de9d
DTSTAMP:20260420T074750Z
SUMMARY:Pre-Chanukah Shabbat Dinner
DESCRIPTION:Jewish Federation of Ottawa\nCommunity Calendar\nhttps://jewish
 ottawa.com/community-calendar/pre-chanukah-shabbat-dinner-1764622134\n\nRa
 bbi Chaim and Bassy Mendelsohn of Chabad of Centrepointe\, invite you t
 o a warm\, family-friendly Shabbat dinner with songs and inspiration. Limi
 ted seats available.\n$36/adult $15/child\nTo RSVP\, text "SHABBAT DINNER"
  to 613-618-3843
DTSTART;TZID=America/Toronto:20251212T173000
DTEND;TZID=America/Toronto:20251212T203000
END:VEVENT
END:VCALENDAR
