BEGIN:VCALENDAR
PRODID:-//eluceo/ical//2.0/EN
VERSION:2.0
CALSCALE:GREGORIAN
BEGIN:VEVENT
UID:febe2ecc2153c4cdc2063796a50735f2
DTSTAMP:20260421T081420Z
SUMMARY:Playgroup Plus Volunteers at Hillel Lodge!
DESCRIPTION:Jewish Federation of Ottawa\nCommunity Calendar\nhttps://jewish
 ottawa.com/community-calendar/playgroup-plus-volunteers-at-hillel-lodge-15
 40224807\n\nParents and babies are invited for this fun\, sweet\, pre-Shab
 bat program with the residents at Hillel Lodge. We'll play\, sing\, and en
 joy each other's company! For more information: rabbizuker@kehillatbethisr
 ael.com
DTSTART;TZID=America/Toronto:20181026T141500
DTEND;TZID=America/Toronto:20181026T151500
END:VEVENT
END:VCALENDAR
