BEGIN:VCALENDAR
PRODID:-//eluceo/ical//2.0/EN
VERSION:2.0
CALSCALE:GREGORIAN
BEGIN:VEVENT
UID:3b2afc0795f5eb939e7010e0bde638aa
DTSTAMP:20260420T053309Z
SUMMARY:Ottawa Sens Chanukah Night
DESCRIPTION:Jewish Federation of Ottawa\nCommunity Calendar\nhttps://jewish
 ottawa.com/community-calendar/ottawa-sens-chanukah-night-1764538967\n\nJoi
 n OTC & JFO for the annual Chanukah at the Sens. Menorah lighting and doug
 hnuts at Gate 1 during the first intermission. Discounted tickets availble
  at www.theotc.org/sens
DTSTART;TZID=America/Toronto:20251218T190000
DTEND;TZID=America/Toronto:20251218T210000
END:VEVENT
END:VCALENDAR
