BEGIN:VCALENDAR
PRODID:-//eluceo/ical//2.0/EN
VERSION:2.0
CALSCALE:GREGORIAN
BEGIN:VEVENT
UID:34a33001f36c68e2bfbc25a715fe7130
DTSTAMP:20260424T015930Z
SUMMARY:Ottawa Jewish Summer Camps Annual Purim Carnival
DESCRIPTION:Jewish Federation of Ottawa\nCommunity Calendar\nhttps://jewish
 ottawa.com/community-calendar/ottawa-jewish-summer-camps-annula-purim-carn
 ival-1769015881\n\nA fun morning reconnecting with your summer camp friend
 s and counsellors in a carnival like atmosphere.  Dress in costume\, have 
 your try at some carnival games\, have fun on the giant inflatables\, get 
 your face painted and more.  A light refreshment of Hamentashen and Juice 
 will be served.
DTSTART;TZID=America/Toronto:20260301T100000
DTEND;TZID=America/Toronto:20260301T120000
END:VEVENT
END:VCALENDAR
