BEGIN:VCALENDAR
PRODID:-//eluceo/ical//2.0/EN
VERSION:2.0
CALSCALE:GREGORIAN
BEGIN:VEVENT
UID:2803afd5c2d25bda9633a23accd1582e
DTSTAMP:20260421T120859Z
SUMMARY:OTC Shabbat Dinner with Far East Rabbi Marvin Tokayer
DESCRIPTION:Jewish Federation of Ottawa\nCommunity Calendar\nhttps://jewish
 ottawa.com/community-calendar/otc-shabbat-dinner-with-far-east-rabbi-marvi
 n-tokayer-1423522518\n\nPlease join us for a Shabbat Dinner with guest spe
 aker Rabbi Marvin Tokayer Pepper\, Silk & Ivory The amazing story of the J
 ews of China\, India and JapanFeel the glow of Shabbat with family and fri
 ends.Enjoy an unforgettable\, fulfilling evening of spiritual pleasure\, c
 ulinary delights \, and a fascinating lectureFriday March 20\, 2015At OTC 
 Chabad 111 Lamplighters DriveServices: 6:00 pm Dinner: 6:45 pmAdults: $25 
 Children: $15 Sponsor: $180Please RSVP by Monday March 16\, 2015www.Ottawa
 TorahCentr...
DTSTART;TZID=America/Toronto:20150320T180000
DTEND;TZID=America/Toronto:20150320T230000
END:VEVENT
END:VCALENDAR
