BEGIN:VCALENDAR
PRODID:-//eluceo/ical//2.0/EN
VERSION:2.0
CALSCALE:GREGORIAN
BEGIN:VEVENT
UID:e7f28b436e039c1e50d412dc15c88b46
DTSTAMP:20260424T222446Z
SUMMARY:Orleans Community Model Seder
DESCRIPTION:Jewish Federation of Ottawa\nCommunity Calendar\nhttps://jewish
 ottawa.com/community-calendar/orleans-community-model-seder-1773084344\n\n
 Join us for a fun and meaningful afternoon at the Orleans Community Model 
 Seder! 🌟\n\nFamilies and community members are invited to experience th
 e spirit of Passover together through interactive activities\, games\, and
  learning. This special event is a wonderful way for both children and adu
 lts to connect with the traditions of Pesach in a warm and welcoming atmos
 phere.\n\nEnjoy Pesach crafts\, snacks\, singing\, games\, and a hands-on 
 model Haggadah experience while spending quality time with ...
DTSTART;TZID=America/Toronto:20260322T163000
DTEND;TZID=America/Toronto:20260322T180000
END:VEVENT
END:VCALENDAR
