BEGIN:VCALENDAR
PRODID:-//eluceo/ical//2.0/EN
VERSION:2.0
CALSCALE:GREGORIAN
BEGIN:VEVENT
UID:4c6b3bb43e2c9884e17610809f1be7e9
DTSTAMP:20260420T014049Z
SUMMARY:Musical Trivia - Community event at the OJCS
DESCRIPTION:Jewish Federation of Ottawa\nCommunity Calendar\nhttps://jewish
 ottawa.com/community-calendar/musical-trivia---community-event-at-the-ojcs
 -1764875597\n\n🎵 Musical Trivia Night! 🎤\nJoin us for a fun and ener
 getic evening of Music Trivia\, inspired by last year’s hugely successfu
 l trivia event! Bring your friends\, form a team\, choose a creative team 
 name\, and get ready to challenge your musical knowledge.\n\n💡 What to 
 Expect:\n\nExciting themed rounds (Guess the Reversed Song\, Music Mashups
 \, Finish the Lyrics\, and more!)\n\nFriendly competition\n\nLots of laugh
 s and community spirit\n\nA professional trivia host\n\nRegister today by 
 e...
DTSTART;TZID=America/Toronto:20260531T180000
DTEND;TZID=America/Toronto:20260531T200000
END:VEVENT
END:VCALENDAR
