BEGIN:VCALENDAR
PRODID:-//eluceo/ical//2.0/EN
VERSION:2.0
CALSCALE:GREGORIAN
BEGIN:VEVENT
UID:8779f08777d3be5c9c12f7c2a14a5139
DTSTAMP:20260420T004001Z
SUMMARY:Movies at KBI: From Darkness to Light
DESCRIPTION:Jewish Federation of Ottawa\nCommunity Calendar\nhttps://jewish
 ottawa.com/community-calendar/movies-at-kbi-from-darkness-to-light-1764795
 607\n\nIn 1972 the “King of Comedy” Jerry Lewis was at the peak of his
  career. Driven by the ambition to play a dramatic role for a change\, he 
 set out to craft a very special movie project for himself\, The Day the Cl
 own Cried. It turned out to be an epic fiasco\, becoming an elusive ghost 
 of a movie with Lewis leaving the set and never speaking about what happen
 ed. The movie was never completed and has become the ultimate Hollywood my
 th. Now\, after years of research\, extensive materials have been...
DTSTART;TZID=America/Toronto:20251213T190000
DTEND;TZID=America/Toronto:20251213T210000
END:VEVENT
END:VCALENDAR
