BEGIN:VCALENDAR
PRODID:-//eluceo/ical//2.0/EN
VERSION:2.0
CALSCALE:GREGORIAN
BEGIN:VEVENT
UID:f06ba3f82d707cff089a5e2b3ad7fbc2
DTSTAMP:20260420T035937Z
SUMMARY:Monthly Movie Night
DESCRIPTION:Jewish Federation of Ottawa\nCommunity Calendar\nhttps://jewish
 ottawa.com/community-calendar/monthly-movie-night-1772720724\n\nJoin us th
 e Greenberg Families Library and the Ottawa Jewish Historical Society for 
 our monthly movie night!We will be showing the movie 'Life of Brian'\, whi
 ch tells the story of Brian\, born on the original Christmas day in the st
 able next door to Jesus Christ\, Brian of Nazareth spends his life being m
 istaken for the messiah.The movie will be held at the Soloway JCC in Socia
 l Hall A. Doors open at 6:30pm\, movie starts at 7pm. Get here a bit early
  to grab yourself a good seat and some snacks. ...
DTSTART;TZID=America/Toronto:20260429T190000
DTEND;TZID=America/Toronto:20260429T210000
END:VEVENT
END:VCALENDAR
