BEGIN:VCALENDAR
PRODID:-//eluceo/ical//2.0/EN
VERSION:2.0
CALSCALE:GREGORIAN
BEGIN:VEVENT
UID:d52b4b2a767189191310986dc2db9029
DTSTAMP:20260424T015940Z
SUMMARY:Monthly Movie Night
DESCRIPTION:Jewish Federation of Ottawa\nCommunity Calendar\nhttps://jewish
 ottawa.com/community-calendar/monthly-movie-night-1764881835\n\nJoin the G
 reenberg Families Library and Ottawa Jewish Historical Society for our fir
 st ever monthly movie night!\n\nWe will be showing the movie Armageddon Ti
 me\, a coming-of-age story about the strength of family and the generation
 al pursuit of the American dream.\n\nThe movie will be held at the Soloway
  JCC in Social Hall A. Doors open at 6:30 pm\, movie starts at 7 pm. Get h
 ere a bit early to grab yourself a good seat and some snacks.\n\nThis even
 t is free but please consider making a $2 don...
DTSTART;TZID=America/Toronto:20260128T190000
DTEND;TZID=America/Toronto:20260128T210000
END:VEVENT
END:VCALENDAR
