BEGIN:VCALENDAR
PRODID:-//eluceo/ical//2.0/EN
VERSION:2.0
CALSCALE:GREGORIAN
BEGIN:VEVENT
UID:b9e5d7e5b0ad03087943874d7d573d1a
DTSTAMP:20260420T065808Z
SUMMARY:Men's night out
DESCRIPTION:Jewish Federation of Ottawa\nCommunity Calendar\nhttps://jewish
 ottawa.com/community-calendar/mens-night-out-1764868518\n\nJoin a great ev
 ening for Jewish men. Enjoy a delicious Chinese dinner\, an awesome movie\
 , and great community!
DTSTART;TZID=America/Toronto:20251216T194500
DTEND;TZID=America/Toronto:20251216T214500
END:VEVENT
END:VCALENDAR
