BEGIN:VCALENDAR
PRODID:-//eluceo/ical//2.0/EN
VERSION:2.0
CALSCALE:GREGORIAN
BEGIN:VEVENT
UID:d2a19458d6316ac663c9d39eb8c853ea
DTSTAMP:20260419T223857Z
SUMMARY:Menorah selfie scanvenger
DESCRIPTION:Jewish Federation of Ottawa\nCommunity Calendar\nhttps://jewish
 ottawa.com/community-calendar/menorah-selfie-scanvenger-1764869427\n\nJoin
  our very first Menorah selfie scavenger in local shops of Wellington West
  and Westboro.
DTSTART;TZID=America/Toronto:20251214T090000
DTEND;TZID=America/Toronto:20251222T160000
END:VEVENT
END:VCALENDAR
