BEGIN:VCALENDAR
PRODID:-//eluceo/ical//2.0/EN
VERSION:2.0
CALSCALE:GREGORIAN
BEGIN:VEVENT
UID:b235271ddc423d246615aee2ea88786b
DTSTAMP:20260420T051505Z
SUMMARY:Menorah Lighting- Chanu-ski-ah
DESCRIPTION:Jewish Federation of Ottawa\nCommunity Calendar\nhttps://jewish
 ottawa.com/community-calendar/menorah-lighting--chanu-ski-ah-1764255702\n\
 nLARKIN HOUSE IN BARRHAVENTemple is going on the road\, join us for the Ch
 anukah tour as we bring our famous homemade Chanu-ski-ah for a tour west a
 nd north. We’ll light\, sing\, nosh and shmooze. In case of cold\, we’
 ll have hot chocolate ready!
DTSTART;TZID=America/Toronto:20251214T170000
DTEND;TZID=America/Toronto:20251214T180000
END:VEVENT
END:VCALENDAR
