BEGIN:VCALENDAR
PRODID:-//eluceo/ical//2.0/EN
VERSION:2.0
CALSCALE:GREGORIAN
BEGIN:VEVENT
UID:c571f6a2400c3530210ecf8b9f141b2a
DTSTAMP:20260424T015920Z
SUMMARY:Lecture: The Internment of Jewish Refugees in Canada during World W
 ar II
DESCRIPTION:Jewish Federation of Ottawa\nCommunity Calendar\nhttps://jewish
 ottawa.com/community-calendar/lecture-the-internment-of-jewish-refugees-in
 -canada-during-world-war-ii-1764880864\n\nDate: Thursday January 15\, 2026
 \nTime: 7:00pm\nVia Zoom\nCost: FREE\n\nJoin us January 15 on Zoom to list
 en to author Ian Darragh discuss the harrowing experience of Jewish refuge
 es who were imprisoned in internment camps in Canada during the Second Wor
 ld War.\n\nAmong the interned refugees were doctors\, musicians\, artists\
 , engineers\, architects\, scientists and two future Nobel Prize winners. 
 Some of the Jewish internees were survivors of Buchenwald and Dachau and w
 ere dealing with severe tra...
DTSTART;TZID=America/Toronto:20260115T190000
DTEND;TZID=America/Toronto:20260115T210000
END:VEVENT
END:VCALENDAR
