BEGIN:VCALENDAR
PRODID:-//eluceo/ical//2.0/EN
VERSION:2.0
CALSCALE:GREGORIAN
BEGIN:VEVENT
UID:cd9350a525993a8c4124c25ed542cd27
DTSTAMP:20260420T004033Z
SUMMARY:Kindness in motion - Toy Truck Delivery
DESCRIPTION:Jewish Federation of Ottawa\nCommunity Calendar\nhttps://jewish
 ottawa.com/community-calendar/kindness-in-motion---toy-truck-delivery-1764
 624566\n\nSpecial event for high school students in Ottawa\, join us as we
  gather all the beautiful toy drive donations throughout this month and de
 liver them to children across the city of Ottawa\, affected by lost illnes
 s\, trauma or special needs. Help us bring the happiness of the chanukah s
 eason to every single home. We will also be delivering to Jewish Family se
 rvices\, Cheo hospital\, Cheo foundation\, and the Ronald McDonald House.D
 rivers needed. Let us know if you can drive. We will deliver all acro...
DTSTART;TZID=America/Toronto:20251221T090000
DTEND;TZID=America/Toronto:20251224T170000
END:VEVENT
END:VCALENDAR
