BEGIN:VCALENDAR
PRODID:-//eluceo/ical//2.0/EN
VERSION:2.0
CALSCALE:GREGORIAN
BEGIN:VEVENT
UID:729c613ff788300fcdff014b37192503
DTSTAMP:20260419T223850Z
SUMMARY:KBI’s Hypnotic Chanukah
DESCRIPTION:Jewish Federation of Ottawa\nCommunity Calendar\nhttps://jewish
 ottawa.com/community-calendar/kbis-hypnotic-chanukah-1764793546\n\nJoin us
  for a program for all ages! A special guest “That Hypnotist Guy” with
  a Comedy Hypnosis Show.\n3:00 STATIONS FOR KIDS\n(CRAFTS\, GAMES\, FACE P
 AINTING)\n4:00 HYPNOTIST SHOW\n5:15 CANDLE LIGHTING AND SONGS WITH CANTOR 
 GREEN AND THE CHOIR\n6:15 CHANUKAH DINNER\n\nCost: $54 per person / $125 p
 er family
DTSTART;TZID=America/Toronto:20251214T150000
DTEND;TZID=America/Toronto:20251214T193000
END:VEVENT
END:VCALENDAR
