BEGIN:VCALENDAR
PRODID:-//eluceo/ical//2.0/EN
VERSION:2.0
CALSCALE:GREGORIAN
BEGIN:VEVENT
UID:9001678e615239414bf51b891c92e59b
DTSTAMP:20260419T223724Z
SUMMARY:JUDA olive press
DESCRIPTION:Jewish Federation of Ottawa\nCommunity Calendar\nhttps://jewish
 ottawa.com/community-calendar/juda-olive-press-1764869046\n\nGreat event f
 or Jewish kids! Hands-on interactive workshop to learn about Chanukah
DTSTART;TZID=America/Toronto:20251214T100000
DTEND;TZID=America/Toronto:20251214T114500
END:VEVENT
END:VCALENDAR
