BEGIN:VCALENDAR
PRODID:-//eluceo/ical//2.0/EN
VERSION:2.0
CALSCALE:GREGORIAN
BEGIN:VEVENT
UID:cabf9dc187a5ef8cdfd5c86785e9657e
DTSTAMP:20260424T004914Z
SUMMARY:JOY (Jewish Ottawa Youth) Teen Purim Event
DESCRIPTION:Jewish Federation of Ottawa\nCommunity Calendar\nhttps://jewish
 ottawa.com/community-calendar/joy-jewish-ottawa-youth-teen-purim-event-176
 9015160\n\nJ.O.Y. (Jewish Ottawa Youth) Purim Party\nTeens in grades 9 to 
 12 are invited to join us for a few hours of fun and games at TailGators o
 n Monday March 2 for unlimited use of Pool Tables\, Fooseball and more. Me
 gillah Reading and munchies\, and soft drinks will be served.
DTSTART;TZID=America/Toronto:20260302T190000
DTEND;TZID=America/Toronto:20260302T213000
END:VEVENT
END:VCALENDAR
