BEGIN:VCALENDAR
PRODID:-//eluceo/ical//2.0/EN
VERSION:2.0
CALSCALE:GREGORIAN
BEGIN:VEVENT
UID:a063b333340ef602ad2793c8c17bc94e
DTSTAMP:20260421T032149Z
SUMMARY:JLI for all Humankind course
DESCRIPTION:Jewish Federation of Ottawa\nCommunity Calendar\nhttps://jewish
 ottawa.com/community-calendar/jli-for-all-humankind-course-1776709410\n\nW
 hat makes for a good life - and a just society? Join this four-part course
  exploring Judaism’s ethical vision for all humanity.\n\nThrough foundat
 ional texts\, we’ll uncover values that shape personal growth\, family l
 ife\, education\, and Judaism’s vision for a more peaceful and perfected
  world.
DTSTART;TZID=America/Toronto:20260510T193000
DTEND;TZID=America/Toronto:20260607T210000
END:VEVENT
END:VCALENDAR
