BEGIN:VCALENDAR
PRODID:-//eluceo/ical//2.0/EN
VERSION:2.0
CALSCALE:GREGORIAN
BEGIN:VEVENT
UID:2e8389ca75cde39b4b5b0949d2be49bd
DTSTAMP:20260420T004021Z
SUMMARY:Jewish Women's Chanukah spin and social
DESCRIPTION:Jewish Federation of Ottawa\nCommunity Calendar\nhttps://jewish
 ottawa.com/community-calendar/jewish-womens-chanukah-spin-and-social-17648
 68352\n\nJoin a great pre-chanukah evening for Jewish women.
DTSTART;TZID=America/Toronto:20251208T193000
DTEND;TZID=America/Toronto:20251208T213000
END:VEVENT
END:VCALENDAR
