BEGIN:VCALENDAR
PRODID:-//eluceo/ical//2.0/EN
VERSION:2.0
CALSCALE:GREGORIAN
BEGIN:VEVENT
UID:9deabc0832e6c3b9328268d55512f533
DTSTAMP:20260420T014254Z
SUMMARY:Jewish Public Servants' Network Chanukah party 2025
DESCRIPTION:Jewish Federation of Ottawa\nCommunity Calendar\nhttps://jewish
 ottawa.com/community-calendar/jewish-public-servants-network-chanukah-part
 y-2025-1764714955\n\nCelebrate the Festival of Lights with fellow Jewish p
 ublic servants in the National Capital Region. Enjoy an evening of communi
 ty and connection\, as we embrace our shared heritage and traditions.\n\nR
 SVP today limited tickets! Email jps.gc.fpj@gmail.com for more information
 .
DTSTART;TZID=America/Toronto:20251218T183000
DTEND;TZID=America/Toronto:20251218T210000
END:VEVENT
END:VCALENDAR
