BEGIN:VCALENDAR
PRODID:-//eluceo/ical//2.0/EN
VERSION:2.0
CALSCALE:GREGORIAN
BEGIN:VEVENT
UID:a7ff97957d6435932455029015ff7252
DTSTAMP:20260420T050837Z
SUMMARY:Hebrew Reading  Crash Course
DESCRIPTION:Jewish Federation of Ottawa\nCommunity Calendar\nhttps://jewish
 ottawa.com/community-calendar/hebrew-reading--crash-course-1764794462\n\nL
 earn to read Hebrew from scratch in six 90-minute Zoom classes! Sundays\, 
 Jan. 4 through February 8th\, 9:45-11:15 am. No charge to register\, but d
 onations are welcome!  A National Jewish Outreach Program taught by Cantor
  Jason Green
DTSTART;TZID=America/Toronto:20260208T094500
DTEND;TZID=America/Toronto:20260208T111500
END:VEVENT
END:VCALENDAR
