BEGIN:VCALENDAR
PRODID:-//eluceo/ical//2.0/EN
VERSION:2.0
CALSCALE:GREGORIAN
BEGIN:VEVENT
UID:7ae0d5ea476a08355ab0632e72cf6f23
DTSTAMP:20260425T105811Z
SUMMARY:Havdallah on Ice - Cancelled!
DESCRIPTION:Jewish Federation of Ottawa\nCommunity Calendar\nhttps://jewish
 ottawa.com/community-calendar/havdallah-on-ice-1768851687\n\nSORRY - THIS 
 EVENT HAS BEEN CANCELLED!\n\nFasten your ice\nskates as we\nembrace the wi
 nter\nand head to the ice\nrink. We’ll bundle\nup and even\nprovide hot\
 nchocolate as we\ndemonstrate our\nprowess on the ice.\nWe’ll ideally he
 ad\nto the Canal- specific meeting place shared in near future
DTSTART;TZID=America/Toronto:20260228T000000
DTEND;TZID=America/Toronto:20260228T235959
END:VEVENT
END:VCALENDAR
