BEGIN:VCALENDAR
PRODID:-//eluceo/ical//2.0/EN
VERSION:2.0
CALSCALE:GREGORIAN
BEGIN:VEVENT
UID:525d0985de732fe2dfd4ca551185f592
DTSTAMP:20260420T004042Z
SUMMARY:Hanukkah Party for Seniors
DESCRIPTION:Jewish Federation of Ottawa\nCommunity Calendar\nhttps://jewish
 ottawa.com/community-calendar/hanukkah-party-for-seniors-1764301374\n\nPle
 ase join AJA 50+ and JFS for an Ottawa Seniors&#039\; Hanukkah program at 
 KBI. Enjoy lunch\, Hanukkah festivities\, singing and dancing.
DTSTART;TZID=America/Toronto:20251216T113000
DTEND;TZID=America/Toronto:20251216T140000
END:VEVENT
END:VCALENDAR
