BEGIN:VCALENDAR
PRODID:-//eluceo/ical//2.0/EN
VERSION:2.0
CALSCALE:GREGORIAN
BEGIN:VEVENT
UID:fcb1a92a34c76554c898805cdbdfd80f
DTSTAMP:20260420T065858Z
SUMMARY:FROSTY Murder Mystery
DESCRIPTION:Jewish Federation of Ottawa\nCommunity Calendar\nhttps://jewish
 ottawa.com/community-calendar/frosty-murder-mystery-1764263770\n\nOttawa j
 ewish teens (grades 9-12) come join FROSTY for a Hannukah party. We will b
 e solving a murder at the speakeasy (ie Temple Isreal). This is a role pla
 y murder mystery as we try to figure out whodunit while we eat sufganiyot!
  Email frostyyouthgroup@gmail.com to sign up and be assigned a character.
DTSTART;TZID=America/Toronto:20251214T140000
DTEND;TZID=America/Toronto:20251214T170000
END:VEVENT
END:VCALENDAR
