BEGIN:VCALENDAR
PRODID:-//eluceo/ical//2.0/EN
VERSION:2.0
CALSCALE:GREGORIAN
BEGIN:VEVENT
UID:c13f85b23ec6072f01c7f6ffecadc8de
DTSTAMP:20260423T032030Z
SUMMARY:Freylekh Friday
DESCRIPTION:Jewish Federation of Ottawa\nCommunity Calendar\nhttps://jewish
 ottawa.com/community-calendar/freylekh-friday-1776868607\n\nFreylekh Frida
 ys is a monthly\, multigenerational Shabbat evening\, complete with a fami
 ly-friendly Teddy Bear Shabbat\, a potluck dinner\, Kabbalat Shabbat and a
  guest speaker ready to spark discussion and introduce new ideas to mull o
 ver all weekend! Teddy Bear Shabbat at 5:30 pm - Join Rabbi Zuker for snac
 ks\, stories and stuffies!  Potluck Shabbat Dinner at 6:30 pm  Musical Kab
 balat Shabbat at 7:30 pm (available via Zoom as well) Guest Speaker Sarah 
 Kitz at 8:15 pm (available via Zoom as well)
DTSTART;TZID=America/Toronto:20260508T173000
DTEND;TZID=America/Toronto:20260508T211500
END:VEVENT
END:VCALENDAR
