BEGIN:VCALENDAR
PRODID:-//eluceo/ical//2.0/EN
VERSION:2.0
CALSCALE:GREGORIAN
BEGIN:VEVENT
UID:035dbc225c5bdcd6f26c66581144345d
DTSTAMP:20260420T014238Z
SUMMARY:Family Fun Temple Israel Ottawa
DESCRIPTION:Jewish Federation of Ottawa\nCommunity Calendar\nhttps://jewish
 ottawa.com/community-calendar/family-fun-temple-israel-ottawa-1764255537\n
 \nYoungest of friends (ages 2-8) are invited for a pre-Chanukah celebratio
 n. We’ll parade around as Macabees\, spin like dreidels\, and nosh on oi
 ly treats. Pizza dinner to follow.
DTSTART;TZID=America/Toronto:20251219T053000
DTEND;TZID=America/Toronto:20251219T063000
END:VEVENT
END:VCALENDAR
