BEGIN:VCALENDAR
PRODID:-//eluceo/ical//2.0/EN
VERSION:2.0
CALSCALE:GREGORIAN
BEGIN:VEVENT
UID:602140fe4f4f73d82d573170f79c672a
DTSTAMP:20260421T082807Z
SUMMARY:Deepening Jewish Experience with Rabbi Idan Scher
DESCRIPTION:Jewish Federation of Ottawa\nCommunity Calendar\nhttps://jewish
 ottawa.com/community-calendar/deepening-jewish-experience-with-rabbi-idan-
 scher-1454595641\n\nIf you want to deepen your understanding of Judaism\, 
 are seeking more from your Jewish experience\, or are just curious - this 
 is for you! Join Rabbi Scher for this 4-part series to explore Jewish wisd
 om and teachings\, and discover relevance and meaning in the texts and tra
 ditions you thoughts you always knew. Week 1 - Feb 16 - Fundamentals and P
 hilosophy: The Elegant Structure of the Most Intellectually Sophisticated 
 Religion in Existence
DTSTART;TZID=America/Toronto:20160216T194500
DTEND;TZID=America/Toronto:20160216T204500
END:VEVENT
END:VCALENDAR
