BEGIN:VCALENDAR
PRODID:-//eluceo/ical//2.0/EN
VERSION:2.0
CALSCALE:GREGORIAN
BEGIN:VEVENT
UID:29c87b9e1deef0bd9af81e17bd8de9c8
DTSTAMP:20260424T222316Z
SUMMARY:Crafts & Chocolate
DESCRIPTION:Jewish Federation of Ottawa\nCommunity Calendar\nhttps://jewish
 ottawa.com/community-calendar/crafts--chocolate-1773077905\n\nWarm up with
  some cocoa and connection.Join us for a night of crafts\, Jewish insights
 \, and of course\, chocolate!
DTSTART;TZID=America/Toronto:20260310T190000
DTEND;TZID=America/Toronto:20260310T210000
END:VEVENT
END:VCALENDAR
