BEGIN:VCALENDAR
PRODID:-//eluceo/ical//2.0/EN
VERSION:2.0
CALSCALE:GREGORIAN
BEGIN:VEVENT
UID:a1d9ee2de329c473e47e9a80f9c9f856
DTSTAMP:20260420T071359Z
SUMMARY:Community Shabbat Dinner
DESCRIPTION:Jewish Federation of Ottawa\nCommunity Calendar\nhttps://jewish
 ottawa.com/community-calendar/community-shabbat-dinner-1764868763\n\nJoin 
 us for a pre-Chanukah Shabbat dinner. Great food\, company\, and community
 !
DTSTART;TZID=America/Toronto:20251212T173000
DTEND;TZID=America/Toronto:20251212T203000
END:VEVENT
END:VCALENDAR
