BEGIN:VCALENDAR
PRODID:-//eluceo/ical//2.0/EN
VERSION:2.0
CALSCALE:GREGORIAN
BEGIN:VEVENT
UID:bd911a92e38b1a63a207a9bebf9dd34e
DTSTAMP:20260420T051534Z
SUMMARY:CMH Simchat Torah Women's Symposium
DESCRIPTION:Jewish Federation of Ottawa\nCommunity Calendar\nhttps://jewish
 ottawa.com/community-calendar/cmh-simchat-torah-womens-symposium-176010464
 4\n\nJoin us on Wednesday\, October 15 at 10:45 AM in the Beit Midrash for
  an inspiring morning as our members share reflections on this year’s th
 eme — Music in Torah and Judaism. Featuring : Aviva Ben Choreen Kate Big
 ney Wilner Nofech Marantz Suzi Shore SauvéFor women and girls ages 10+. N
 o registration required.
DTSTART;TZID=America/Toronto:20251015T104500
DTEND;TZID=America/Toronto:20251015T150000
END:VEVENT
END:VCALENDAR
