BEGIN:VCALENDAR
PRODID:-//eluceo/ical//2.0/EN
VERSION:2.0
CALSCALE:GREGORIAN
BEGIN:VEVENT
UID:a36a0a4670cda1c0ce4f5b7e326aa3b2
DTSTAMP:20260420T051353Z
SUMMARY:CMH Simchat Torah Celebration
DESCRIPTION:Jewish Federation of Ottawa\nCommunity Calendar\nhttps://jewish
 ottawa.com/community-calendar/cmh-simchat-torah-celebration-1760104496\n\n
 ✨ Join us for a joyful Simchat Torah Celebration! Celebrate with Maariv\
 , spirited Hakafot and dancing\, followed by a delicious community dinner.
  📅 Tuesday\, October 14 | 💃🕍 Fun for all ages! Dinner: $25/adult 
 & youth | $10/child (ages 3–12) | Free for kids under 3 Generously spons
 ored by Gail and Joel Scher.
DTSTART;TZID=America/Toronto:20251014T190000
DTEND;TZID=America/Toronto:20251014T210000
END:VEVENT
END:VCALENDAR
