BEGIN:VCALENDAR
PRODID:-//eluceo/ical//2.0/EN
VERSION:2.0
CALSCALE:GREGORIAN
BEGIN:VEVENT
UID:260fc1c8c069a175ac18081517731466
DTSTAMP:20260420T003953Z
SUMMARY:Chanukah on Parliament Hill for parliamentary staff
DESCRIPTION:Jewish Federation of Ottawa\nCommunity Calendar\nhttps://jewish
 ottawa.com/community-calendar/chanukah-on-parliament-hill-for-parliamentar
 y-staff-1764683533\n\nCome together with the Jewish community to celebrate
  Chanukah on Parliament hill.\nMembers of parliament from all parties will
  be invited to represent their party.\nLet's spread the miracle of Chanuka
 h and light of the menorah.\nNo cost. But for security reasons must RSVP t
 o Rabbi Chaim Mendelsohn at 613-218-8505 or Rabbi@sympatico.ca
DTSTART;TZID=America/Toronto:20251216T163000
DTEND;TZID=America/Toronto:20251216T180000
END:VEVENT
END:VCALENDAR
