BEGIN:VCALENDAR
PRODID:-//eluceo/ical//2.0/EN
VERSION:2.0
CALSCALE:GREGORIAN
BEGIN:VEVENT
UID:47a8960b5beebe4ebe8e062825e57ecf
DTSTAMP:20260420T022841Z
SUMMARY:Chanukah on Ice
DESCRIPTION:Jewish Federation of Ottawa\nCommunity Calendar\nhttps://jewish
 ottawa.com/community-calendar/chanukah-on-ice-1764538800\n\nJoin OTC & CBB
 O for Chanukah on Ice! Family skating\, doughnuts and hot chocolate\, Chan
 ukah swag\, Menorah lighting and more!
DTSTART;TZID=America/Toronto:20251221T141500
DTEND;TZID=America/Toronto:20251221T160000
END:VEVENT
END:VCALENDAR
