BEGIN:VCALENDAR
PRODID:-//eluceo/ical//2.0/EN
VERSION:2.0
CALSCALE:GREGORIAN
BEGIN:VEVENT
UID:ed79c98781d21c6bc254b58fc7bf4a54
DTSTAMP:20260420T032259Z
SUMMARY:Chanukah Menorah Lighting and Wonderland
DESCRIPTION:Jewish Federation of Ottawa\nCommunity Calendar\nhttps://jewish
 ottawa.com/community-calendar/chanukah-menorah-lighting-and-wonderland-176
 4621482\n\nChabad of Centrepointe\nJoin us for an amazing event! Featuring
  chanukah activities\, Menorah lighting with local dignitaries\, ice skati
 ng (weather permitting)\, Gelt drop\, lively music\, crafts\, juggler\, to
 ddler area\, popcorn\, cotton candy\, hot churro food truck\, hot latkes\,
  hot chocolate\, face painting and lots of fun!
DTSTART;TZID=America/Toronto:20251214T150000
DTEND;TZID=America/Toronto:20251214T180000
END:VEVENT
END:VCALENDAR
