BEGIN:VCALENDAR
PRODID:-//eluceo/ical//2.0/EN
VERSION:2.0
CALSCALE:GREGORIAN
BEGIN:VEVENT
UID:a6cea8c289d4d3973b6399039c0ed222
DTSTAMP:20260419T224031Z
SUMMARY:Chanukah in Gatineau
DESCRIPTION:Jewish Federation of Ottawa\nCommunity Calendar\nhttps://jewish
 ottawa.com/community-calendar/chanukah-in-gatineau-1764867873\n\nJoin our 
 annual Chanukah celebration in Gatineau with community and friends.
DTSTART;TZID=America/Toronto:20251215T193000
DTEND;TZID=America/Toronto:20251215T213000
END:VEVENT
END:VCALENDAR
