BEGIN:VCALENDAR
PRODID:-//eluceo/ical//2.0/EN
VERSION:2.0
CALSCALE:GREGORIAN
BEGIN:VEVENT
UID:e93ddfd1adda48dc41ddd8ac5e5650e1
DTSTAMP:20260420T051525Z
SUMMARY:Chanukah at Loblaws
DESCRIPTION:Jewish Federation of Ottawa\nCommunity Calendar\nhttps://jewish
 ottawa.com/community-calendar/chanukah-at-loblaws-1764623746\n\nBeautiful 
 chanukah Menorah lighting at Loblaws College Square - a special party and 
 chanukah celebration with a children's show\,donuts \, gelt\, music\, and 
 lots of fun!\nCome together proudly at Jews to celebrate chanukah! Free ev
 ent
DTSTART;TZID=America/Toronto:20251221T160000
DTEND;TZID=America/Toronto:20251221T173000
END:VEVENT
END:VCALENDAR
