BEGIN:VCALENDAR
PRODID:-//eluceo/ical//2.0/EN
VERSION:2.0
CALSCALE:GREGORIAN
BEGIN:VEVENT
UID:8e6efdba483879b99b9b5753cca362ef
DTSTAMP:20260419T120140Z
SUMMARY:Bible Basics with Lauren Shaps
DESCRIPTION:Jewish Federation of Ottawa\nCommunity Calendar\nhttps://jewish
 ottawa.com/community-calendar/bible-basics-with-lauren-shaps-1591536024\n\
 nAsk challenging questions\, hear stunning answers. Participate in meaning
 ful discussion with a wonderful group of women and see how the events of t
 he Exodus speak to the challenges of today.
DTSTART;TZID=America/Toronto:20200611T091500
DTEND;TZID=America/Toronto:20200611T101500
END:VEVENT
END:VCALENDAR
