BEGIN:VCALENDAR
PRODID:-//eluceo/ical//2.0/EN
VERSION:2.0
CALSCALE:GREGORIAN
BEGIN:VEVENT
UID:e004089b676f47e8f677fe6db491900e
DTSTAMP:20260420T014218Z
SUMMARY:Beit Ha'am Journey program by Canadian Zionist Federation
DESCRIPTION:Jewish Federation of Ottawa\nCommunity Calendar\nhttps://jewish
 ottawa.com/community-calendar/beit-haam-journey-program-by-canadian-zionis
 t-federation-1552571328\n\nWe invite you to join our interactive community
  workshops and events to discuss and to experience Israel\, its society an
 d the role of Zionism today. Activities and programs at various locations.
  For all information including admission information\, please see this lin
 k.\nPresented by: \n\nWZO’s Department for Diaspora Affairs (DDA) and 
 The Canadian Zionist Federation (CZF)
DTSTART;TZID=America/Toronto:20190523T000000
DTEND;TZID=America/Toronto:20190526T235959
END:VEVENT
END:VCALENDAR
