BEGIN:VCALENDAR
PRODID:-//eluceo/ical//2.0/EN
VERSION:2.0
CALSCALE:GREGORIAN
BEGIN:VEVENT
UID:1da5c8b8e40b48e882205a10becb1862
DTSTAMP:20260424T215643Z
SUMMARY:Babies & Bagels at the Tulip Festival
DESCRIPTION:Jewish Federation of Ottawa\nCommunity Calendar\nhttps://jewish
 ottawa.com/community-calendar/babies--bagels-at-the-tulip-festival-1777037
 302\n\nJoin Us at the Tulip Festival! 🌷\n\nEnjoy a walk by the waterfro
 nt at the Tulip Festival. Bring your strollers\, carriers\, little ones\, 
 and friends to enjoy some fresh air and great company.\n\nAfter our walk\,
  we’ll unwind with a lovely picnic under the trees. We can’t wait to s
 ee you there!
DTSTART;TZID=America/Toronto:20260513T103000
DTEND;TZID=America/Toronto:20260513T123000
END:VEVENT
END:VCALENDAR
