BEGIN:VCALENDAR
PRODID:-//eluceo/ical//2.0/EN
VERSION:2.0
CALSCALE:GREGORIAN
BEGIN:VEVENT
UID:4359c34042bc7343ac8e4aa1398e518c
DTSTAMP:20260420T051514Z
SUMMARY:AJA Lunch and Learn: Marsha Lederman
DESCRIPTION:Jewish Federation of Ottawa\nCommunity Calendar\nhttps://jewish
 ottawa.com/community-calendar/aja-lunch-and-learn-marsha-lederman-17643017
 71\n\nAJA 50+&#039\;s unch and Learn programs continue with an in-person t
 alk by Marsha Lederman\, Globe and Mail Journalist and award winning autho
 r. Marsha will share her insights from her recent trip to Israel and her n
 ew book - October 7th: Searching for the Humanitarian Middle.\n\n** Please
  note: the opinions expressed by the speaker are hers alone and not those 
 of AJA.
DTSTART;TZID=America/Toronto:20251217T110000
DTEND;TZID=America/Toronto:20251217T130000
END:VEVENT
END:VCALENDAR
