BEGIN:VCALENDAR
PRODID:-//eluceo/ical//2.0/EN
VERSION:2.0
CALSCALE:GREGORIAN
BEGIN:VEVENT
UID:20e0af1751a3ce114317ad2428ea838b
DTSTAMP:20260419T140219Z
SUMMARY:HEM - Exhibit: "A Thousand Kisses: Stories of the Kindertransport"
DESCRIPTION:Jewish Federation of Ottawa\nCommunity Calendar\nhttps://jewish
 ottawa.com/community-calendar/HEM-exhibit\n\nExhibit: "A Thousand Kisses: 
 Stories of the Kindertransport" \n\n\n\nNovember 23 to 26 during regular 
 hours \n\n\n\nThis 10-panel traveling exhibit explores the experiences of
  children rescued through the Kindertransport\, who fled Nazi Germany\, Au
 stria\, and Czechoslovakia from 1938 to 1940. During this time\, the Briti
 sh government admitted 10\,000 unaccompanied Jewish children as refugees f
 rom escalating Nazi persecution. The exhibit highlights the efforts of com
 munal organizations and ind...
DTSTART;TZID=America/Toronto:20251123T080000
DTEND;TZID=America/Toronto:20251126T170000
END:VEVENT
END:VCALENDAR
