BEGIN:VCALENDAR
PRODID:-//eluceo/ical//2.0/EN
VERSION:2.0
CALSCALE:GREGORIAN
BEGIN:VEVENT
UID:f54805f389c217d64583c0266d4e8d5b
DTSTAMP:20260420T042349Z
SUMMARY:7th Annual Rabbi Bulka Chanukah Toy Drive
DESCRIPTION:Jewish Federation of Ottawa\nCommunity Calendar\nhttps://jewish
 ottawa.com/community-calendar/7th-annual-rabbi-bulka-chanukah-toy-drive-17
 64625388\n\nRipple Effect\nOnce again\, join us\, to bring joy\, love and 
 warmth to children affected by loss\, illness\, trauma\, and special needs
 . We also deliver to those affected by food and security.\n\nToy Box locat
 ions: Congregation Machzikei Hadas\, Loblaws College Square \, Ottawa Jewi
 sh Community School\, Torah Day School of Ottawa and the Soloway JCC.
DTSTART;TZID=America/Toronto:20251201T090000
DTEND;TZID=America/Toronto:20251218T170000
END:VEVENT
END:VCALENDAR
